BEGIN:VCALENDAR
VERSION:2.0
PRODID:-//O² artiste vibratoire - ECPv6.15.11//NONSGML v1.0//EN
CALSCALE:GREGORIAN
METHOD:PUBLISH
X-WR-CALNAME:O² artiste vibratoire
X-ORIGINAL-URL:https://o2artistepeintre.fr
X-WR-CALDESC:Évènements pour O² artiste vibratoire
REFRESH-INTERVAL;VALUE=DURATION:PT1H
X-Robots-Tag:noindex
X-PUBLISHED-TTL:PT1H
BEGIN:VTIMEZONE
TZID:Europe/Paris
BEGIN:DAYLIGHT
TZOFFSETFROM:+0100
TZOFFSETTO:+0200
TZNAME:CEST
DTSTART:20250330T010000
END:DAYLIGHT
BEGIN:STANDARD
TZOFFSETFROM:+0200
TZOFFSETTO:+0100
TZNAME:CET
DTSTART:20251026T010000
END:STANDARD
BEGIN:DAYLIGHT
TZOFFSETFROM:+0100
TZOFFSETTO:+0200
TZNAME:CEST
DTSTART:20260329T010000
END:DAYLIGHT
BEGIN:STANDARD
TZOFFSETFROM:+0200
TZOFFSETTO:+0100
TZNAME:CET
DTSTART:20261025T010000
END:STANDARD
BEGIN:DAYLIGHT
TZOFFSETFROM:+0100
TZOFFSETTO:+0200
TZNAME:CEST
DTSTART:20270328T010000
END:DAYLIGHT
BEGIN:STANDARD
TZOFFSETFROM:+0200
TZOFFSETTO:+0100
TZNAME:CET
DTSTART:20271031T010000
END:STANDARD
END:VTIMEZONE
BEGIN:VEVENT
DTSTART;TZID=Europe/Paris:20260516T180000
DTEND;TZID=Europe/Paris:20260516T230000
DTSTAMP:20260422T141042
CREATED:20260415T094643Z
LAST-MODIFIED:20260415T094643Z
UID:4461-1778954400-1778972400@o2artistepeintre.fr
SUMMARY:Veillée Émergence
DESCRIPTION:🦉 Une soirée pour laisser émerger ce qui cherche à naître \nIl existe des moments où quelque chose en nous appelle.Une sensation subtile. Un mouvement intérieur.Comme si une part de nous cherchait à émerger… sans encore trouver sa forme. \nLa veillée Émergence est un espace pour accueillir ces moments. \nUn temps pour ralentir\, déposer ce qui est là\,et laisser se révéler\, en douceur\, ce qui cherche à prendre vie. \n🌿 Un espace hors du temps\nDans une atmosphère douce et enveloppante\, je vous propose une traversée en plusieurs temps : \n✨ Un temps d’accueil et de présence✨ Un conte méditatif canalisé✨ Un espace d’intégration et de partage✨ Un moment convivial autour d’un repas \nChaque veillée est unique.Le conte se tisse en résonance avec les personnes présentes\,et vient toucher différents niveaux de conscience. \n🌌 Une expérience vivante\nCes contes ne sont pas simplement écoutés.Ils se vivent. \nIls ouvrent des espaces intérieurs\,mettent en mouvement ce qui était figé\,et offrent des clés qui continuent de résonner bien après la soirée. \nBeaucoup repartent avec : \n✨ un regard nouveau sur ce qu’ils traversent✨ des compréhensions profondes✨ un sentiment de recentrage✨ une sensation de chemin qui se clarifie \n🦉 Pour qui ?\nCette veillée s’adresse à celles et ceux qui : \n\ntraversent un passage de vie\nressentent un appel intérieur\nsont en chemin spirituel ou sensibles aux dimensions subtiles\nsouhaitent vivre une expérience profonde\, en douceur\n\n🌙 Informations pratiques\n📅 Date : 16 mai🕕 Accueil à partir de 18h🌿 Fin vers 23h \n💫 Tarif : 35€ \n🍲 Un temps de repas partagé est proposé après la veillée (selon les envies de chacun). \n✨ Réserver sa place\nLes places sont volontairement limitées afin de préserver la qualité de l’espace et la profondeur de l’expérience. \nSi vous ressentez l’appel\, je vous invite à réserver votre place dès maintenant. \n📱 Contact direct sur WhatsApp : 06 61 44 07 55 \n🌿 Un mot pour finir\nIl n’est pas toujours nécessaire de comprendre à l’avance. \nParfois\, il suffit de venir\,de s’asseoir…et d’écouter ce qui cherche à émerger.
URL:https://o2artistepeintre.fr/evenement/veillee-emergence/
LOCATION:Ecurie Sedna Selky\, 355 RTE DE SAINT-AMAND\, Bruille Saint Amand\, 59199\, France
CATEGORIES:Cercle de méditation,Conte méditatif,Veillée Emergence
ORGANIZER;CN="Aude Envain":MAILTO:audeenvain@yahoo.fr
END:VEVENT
END:VCALENDAR